BEGIN:VCALENDAR
VERSION:2.0
PRODID:-//COZY MOSCOW - ECPv6.14.1//NONSGML v1.0//EN
CALSCALE:GREGORIAN
METHOD:PUBLISH
X-ORIGINAL-URL:https://cozymoscow.me
X-WR-CALDESC:Мероприятия для COZY MOSCOW
REFRESH-INTERVAL;VALUE=DURATION:PT1H
X-Robots-Tag:noindex
X-PUBLISHED-TTL:PT1H
BEGIN:VTIMEZONE
TZID:Asia/Dubai
BEGIN:STANDARD
TZOFFSETFROM:+0400
TZOFFSETTO:+0400
TZNAME:+04
DTSTART:20240101T000000
END:STANDARD
END:VTIMEZONE
BEGIN:VEVENT
DTSTART;TZID=Asia/Dubai:20240703T190000
DTEND;TZID=Asia/Dubai:20240703T213000
DTSTAMP:20260422T180032
CREATED:20240629T193414Z
LAST-MODIFIED:20240629T193415Z
UID:32595-1720033200-1720042200@cozymoscow.me
SUMMARY:Большая Полянка и её окрестности
DESCRIPTION:03 июля в 19-00. Сегодня трудно поверить в то\, что много веков назад с Большой Полянки начиналась территория заливных лугов и полей. Еще в древности здесь проходил оживленный торговый тракт — Серпуховская дорога. В разные времена тут обитали торговцы и ремесленники\, казаки и стрельцы. Начиная с 18 века\, Полянка считалась одной из главных улиц Замоскворечья\, где селились купцы. Здесь же находился Полянский рынок — крупнейший в Москве центр торговли. \nГид — историк Александр Спивак. Участие 700 руб.\, дети бесплатно. Время в пути 2.5 часа. Запись на glavred@cozymoscow.me \nПолное описание
URL:https://cozymoscow.me/event/bolshaya-polyanka-i-eyo-okrestnosti
ATTACH;FMTTYPE=image/jpeg:https://cozymoscow.me/wp-content/uploads/2012/05/IMG_20210820_174600.jpg
END:VEVENT
BEGIN:VEVENT
DTSTART;TZID=Asia/Dubai:20240630T170000
DTEND;TZID=Asia/Dubai:20240630T193000
DTSTAMP:20260422T180032
CREATED:20240629T193721Z
LAST-MODIFIED:20240629T193721Z
UID:32598-1719766800-1719775800@cozymoscow.me
SUMMARY:Поварская: модерн и не только
DESCRIPTION:30 июня в 17-00. Поварскую улицу можно назвать «заповедником» Льва Кекушева – архитектора\, который за очень короткую творческую жизнь создал самые яркие и самобытные произведения модерна. На этой улице он в разное время построил четыре особняка и все они по-разному отражают его богатейший художественный дар. Нигде в Москве вы не найдете столько шедевров архитектуры разных стилей\, как на престижной и барской Поварской. На ней модерн соседствует с ампиром\, итальянским ренессансом и французским замком\, а небольшие домики с усадьбами 18 века и огромными доходными домами. \nВремя в пути 2.5 часа. Участие 700 руб. Дети бесплатно. Гид — краевед и писатель Ирина Левина. Запись на glavred@cozymoscow.me \nПолное описание
URL:https://cozymoscow.me/event/povarskaya-modern-i-ne-tolko
ATTACH;FMTTYPE=image/jpeg:https://cozymoscow.me/wp-content/uploads/2019/03/Z-1258.jpg
END:VEVENT
BEGIN:VEVENT
DTSTART;TZID=Asia/Dubai:20240630T120000
DTEND;TZID=Asia/Dubai:20240630T140000
DTSTAMP:20260422T180032
CREATED:20240629T194316Z
LAST-MODIFIED:20240629T194318Z
UID:32600-1719748800-1719756000@cozymoscow.me
SUMMARY:Москва Английская: от Тверской до Спиридоновки. Малая группа.
DESCRIPTION:30 июня в 12-00. Москва в любой период своей истории привлекала иноземцев со всего света. Кто-то из иностранных гостей приезжал сюда в путешествие\, другие оставались насовсем. Они привозили с собой навыки\, привычки\, моду\, идеи. Всё это — отдельная увлекательная страница истории столицы. Переселенцев из Великобритании в Москве никогда не было много. Тем не менее\, известно множество историй о выдающихся уроженцах Туманного Альбиона\, которые нашли здесь свою вторую родину. Среди них были музыканты\, врачи и особенно много фабрикантов. Последние внесли весомый вклад в развитие российской промышленности во второй половине XIX века. Кроме того\, известно немало наших знаменитых соотечественников\, среди родственников которых были британцы. Гуляя между известными центральными улицами — от Тверского бульвара до Спиридоновки — мы отыщем на них «брианский след». \nГид — краевед и исследователь Максим Лучинин. Продолжительность 2 часа. Участие 780 руб. Дети бесплатно. Запись на почте glavred@cozymoscow.me \nПолное описание \n 
URL:https://cozymoscow.me/event/moskva-anglijskaya-ot-tverskoj-do-spiridonovki-malaya-gruppa
ATTACH;FMTTYPE=image/jpeg:https://cozymoscow.me/wp-content/uploads/2024/06/IMG-20240612-WA0000.jpg
END:VEVENT
BEGIN:VEVENT
DTSTART;TZID=Asia/Dubai:20240630T100000
DTEND;TZID=Asia/Dubai:20240630T130000
DTSTAMP:20260422T180032
CREATED:20240629T202607Z
LAST-MODIFIED:20240629T210922Z
UID:32603-1719741600-1719752400@cozymoscow.me
SUMMARY:Культпоход "Битцевский лес. Верховья Чертановки".
DESCRIPTION:30 июня в 10-00 вместе с агроэкологом Антоном Гладилиным мы совершим эко-прогулку по западной части Битцевского леса. Именно там\, на вершинах теплостанской возвышенности\, берет свое начало река Чертановка. Стартуем от метро Коньково\, затем нас встретит величественный широколиственный лес. На крутых берегах извилистой реки увидим овраги\, многочисленные притоки и даже водопады! Затем перейдем на правый берег\, где полюбуемся живописными пейзажами суходольных лугов и светлых березовых рощ. \nГид — агроэколог и краевед Антон Гладилин. Участие 950 руб. Дети бесплатно. Запись на почте glavred@cozymoscow.me \nПолное описание
URL:https://cozymoscow.me/event/kultpoxod-bitcevskij-les-verxovya-chertanovki
ATTACH;FMTTYPE=image/jpeg:https://cozymoscow.me/wp-content/uploads/2024/06/20230703_142239.jpg
END:VEVENT
BEGIN:VEVENT
DTSTART;TZID=Asia/Dubai:20240629T180000
DTEND;TZID=Asia/Dubai:20240629T200000
DTSTAMP:20260422T180032
CREATED:20240624T170706Z
LAST-MODIFIED:20240629T202045Z
UID:32483-1719684000-1719691200@cozymoscow.me
SUMMARY:Вечерняя Пречистенка
DESCRIPTION:Начнём от древнего Чертолья\, пройдём по красивой улице\, полюбуемся старинными палатами и усадьбами. Найдём «Калабуховский дом»\, навестим московский двор\, поговорим о декабристе Орлове и поэте Давыдове. \nГид — краевед и писатель Ирина Левина. Время в пути 2 часа. Участие 700 руб. Дети бесплатно. Запись на почте glavred@cozymoscow.me \nПолное описание
URL:https://cozymoscow.me/event/vechernyaya-prechistenka
ATTACH;FMTTYPE=image/jpeg:https://cozymoscow.me/wp-content/uploads/2012/08/73395316_10217437136178430_2173027579445903360_n.jpg
END:VEVENT
BEGIN:VEVENT
DTSTART;TZID=Asia/Dubai:20240629T160000
DTEND;TZID=Asia/Dubai:20240629T190000
DTSTAMP:20260422T180032
CREATED:20240624T165914Z
LAST-MODIFIED:20240629T200554Z
UID:32477-1719676800-1719687600@cozymoscow.me
SUMMARY:Истории и памятники Ваганьковского кладбища. Обзорная экскурсия для малой группы.
DESCRIPTION:Ваганьковское кладбище было открыто в XVIII веке по инициативе графа Орлова — здесь хоронили жертв чумы. Места для могил делились на 7 разрядов\, у храма стоило 200 рублей\, а на задворках хоронили бесплатно. В 1906 году кладбище официально вошло в черту города. За 250 лет некрополь разросся до 48 гектаров. Как и всякое старинное кладбище\, Ваганьковское богато историями и легендами — чего только стоят самоубийства на могилах Есенина и Талькова или паломничества к предполагаемой могиле Соньки Золотой Ручки. \nГид — исследователь-некрополист Юлия Косова. Участие 1300р. Продолжительность 3 часа. Группа 15 человек.  Запись на glavred@cozymoscow.me \nПолное описание
URL:https://cozymoscow.me/event/istorii-i-pamyatniki-vagankovskogo-kladbishha-obzornaya-ekskursiya-dlya-maloj-gruppy
ATTACH;FMTTYPE=image/jpeg:https://cozymoscow.me/wp-content/uploads/2020/07/98f302544191f3eb1ff1f50055e82fd0.jpg
END:VEVENT
BEGIN:VEVENT
DTSTART;TZID=Asia/Dubai:20240629T140000
DTEND;TZID=Asia/Dubai:20240629T160000
DTSTAMP:20260422T180032
CREATED:20240624T170327Z
LAST-MODIFIED:20240629T201058Z
UID:32479-1719669600-1719676800@cozymoscow.me
SUMMARY:Магический прямоугольник Бауманской с Сергеем Брелем
DESCRIPTION:Когда на станции метро «Бауманская» шумный поток студентов покидает столичную подземку и спускается обратно через единственный павильон\, может показаться: это место нашего города не создано для туристов. Между тем\, если мысленно очертить один лишь многоугольник\, ограниченный Бауманской и Спартаковскими улицами и несколькими переулками\, оказываешься в магическом пространстве\, где природа и архитектура соединила московскую неспешность с петербургскими изысками.\nИностранцы жили здесь несколько веков\, оставив следы и в зодчестве\, и в истории. Немцы долгое время вели торговлю (и не только торговлю обычным товаром!) на старом рынке\, откуда их вытеснили впоследствии коренные русаки; шотландец Брюс владел землёй\, где позже возникла усадьба собирателя древних рукописей Мусина-Пушкина; да и сам Александр Сергеевич Пушкин появился на свет здесь же. Потомок «фон Визинов» Денис Иванович\, великий русский драматург\, по легенде\, даже дал имя одному из переулков. А целая династия греков вплоть до революции делала на маленькой фабрике национальные сласти. Отметились здесь и русские купцы\, один из которых даже пригласил к обустройству своих владений молодого Фёдора Шехтеля. \nВНИМАНИЕ! Ряд фактов и цитат\, которые будут приводиться на экскурсии\, гид рекомендует публике не моложе восемнадцати лет.   \nУчастие 700 руб. Гид  — писатель и поэт Сергей Брель. Время в пути 2 часа. Запись на почте glavred@cozymoscow.me \nПолное описание \n 
URL:https://cozymoscow.me/event/magicheskij-pryamougolnik-baumanskoj-s-sergeem-brelem
ATTACH;FMTTYPE=image/jpeg:https://cozymoscow.me/wp-content/uploads/2021/05/157-11-8.jpg
END:VEVENT
BEGIN:VEVENT
DTSTART;TZID=Asia/Dubai:20240629T130000
DTEND;TZID=Asia/Dubai:20240629T150000
DTSTAMP:20260422T180032
CREATED:20240624T170512Z
LAST-MODIFIED:20240629T201241Z
UID:32481-1719666000-1719673200@cozymoscow.me
SUMMARY:История Киевского вокзала. С посещением смотровой площадки башни с орлами
DESCRIPTION:Очень здорово\, когда привычные вещи открываются с неожиданной стороны. Все были на Киевском вокзале\, но не все знают\, что там столько интересного… Чего стоит только завораживающая смотровая площадка на часовой башне с четырьмя величественными орлами! История Дорогомиловской слободы связана с древнейшей Смоленской дорогой\, в это время она была очень оживленной и связывала Москву с Западной Европой. В слободе стояла церковь Богоявления\, здесь располагались лавки\, трактиры\, ремесленные мастерские. После пожара 1812 года слобода отстраивается заново\, позже здесь появляются фабрики и заводы\, на месте пруда в конце 19 века выстраивается Брянский (ныне Киевский) железнодорожный вокзал. \nГид — краевед Ирина Вишнякова. Экскурсия проходит в наушниках. Группа 14 человек. Участие 1500 руб. 14+. Продолжительность 2 часа.  Запись на glavred@cozymoscow.me \nПолное описание
URL:https://cozymoscow.me/event/istoriya-kievskogo-vokzala-s-poseshheniem-smotrovoj-ploshhadki-bashni-s-orlami
ATTACH;FMTTYPE=image/jpeg:https://cozymoscow.me/wp-content/uploads/2014/03/IMG_4104-1.jpg
END:VEVENT
BEGIN:VEVENT
DTSTART;TZID=Asia/Dubai:20240627T190000
DTEND;TZID=Asia/Dubai:20240627T213000
DTSTAMP:20260422T180032
CREATED:20240624T170923Z
LAST-MODIFIED:20240629T195956Z
UID:32486-1719514800-1719523800@cozymoscow.me
SUMMARY:Тихими переулками Остоженки от Крымского брода
DESCRIPTION:27 июня в 19-00  мы узнаем историю старинных особняков особняков и их владельцев\, первых учебных и благотворительных заведений\, а еще увидим старообрядческую церковь и узнаем\, где был первый московский спа-курорт. Спускающаяся к Крымскому броду улица Остоженка с переулками сохранила столетнюю застройку от послепожарной Москвы. Бродя по ним мы услышим множество историй\, связанных с домами и их владельцами. \nГид — краевед Ирина Вишнякова. Участие 780 руб.  Экскурсия проходит с наушниками для комфорта слушателей. Время в пути 2-2.5 часа. Запись на glavred@cozymoscow.me \nПолное описание
URL:https://cozymoscow.me/event/tiximi-pereulkami-ostozhenki-ot-krymskogo-broda
ATTACH;FMTTYPE=image/jpeg:https://cozymoscow.me/wp-content/uploads/2015/01/377450268_10232009068159989_2222309186826033455_n.jpg
END:VEVENT
BEGIN:VEVENT
DTSTART;TZID=Asia/Dubai:20240626T190000
DTEND;TZID=Asia/Dubai:20240626T210000
DTSTAMP:20260422T180032
CREATED:20240624T171854Z
LAST-MODIFIED:20240629T200226Z
UID:32495-1719428400-1719435600@cozymoscow.me
SUMMARY:Самые тихие бульвары с посещением дома Телешова
DESCRIPTION:26 июня в 19-00 во время прогулки по Солянке\, Яузскому и Покровскому бульвару с писателем и поэтом Сергеем Брелем\, вы узнаете интересные факты о браке Пушкина и Натали Гончаровой\, историю с русскими мушкетёрами\, увидите Дом-Комод\, Дом с Атлантами\, Воспитательный дом\, детище Павла Первого — Покровские казармы\, услышите о исчезнувшей Кошельной слободе и посмотрите на последний московский приют Марины Цветаевой. А еще во время экскурсии мы побываем в усадьбе 18 века\, которую часто посещал Гиляровский. Это дом Телешовых-Карзинкиных\, где до сих пор живёт их род — вот уже 200 лет. \nПродолжительность 2 часа.  Гид — поэт и писатель Сергей Брель. Участие 800 руб.  Дети 100 руб. Запись на почте glavred@cozymoscow.me \nПолное описание
URL:https://cozymoscow.me/event/samye-tixie-bulvary-s-poseshheniem-doma-teleshova
ATTACH;FMTTYPE=image/jpeg:https://cozymoscow.me/wp-content/uploads/2016/04/0_5a4d8_f2b15e5e_XL.jpg
END:VEVENT
END:VCALENDAR